BEGIN:VCALENDAR
VERSION:2.0
PRODID:-//Juan de Padilla - ECPv6.15.17.1//NONSGML v1.0//EN
CALSCALE:GREGORIAN
METHOD:PUBLISH
X-WR-CALNAME:Juan de Padilla
X-ORIGINAL-URL:https://jdpofs.org
X-WR-CALDESC:Events for Juan de Padilla
REFRESH-INTERVAL;VALUE=DURATION:PT1H
X-Robots-Tag:noindex
X-PUBLISHED-TTL:PT1H
BEGIN:VTIMEZONE
TZID:America/Chicago
BEGIN:DAYLIGHT
TZOFFSETFROM:-0600
TZOFFSETTO:-0500
TZNAME:CDT
DTSTART:20240310T080000
END:DAYLIGHT
BEGIN:STANDARD
TZOFFSETFROM:-0500
TZOFFSETTO:-0600
TZNAME:CST
DTSTART:20241103T070000
END:STANDARD
BEGIN:DAYLIGHT
TZOFFSETFROM:-0600
TZOFFSETTO:-0500
TZNAME:CDT
DTSTART:20250309T080000
END:DAYLIGHT
BEGIN:STANDARD
TZOFFSETFROM:-0500
TZOFFSETTO:-0600
TZNAME:CST
DTSTART:20251102T070000
END:STANDARD
BEGIN:DAYLIGHT
TZOFFSETFROM:-0600
TZOFFSETTO:-0500
TZNAME:CDT
DTSTART:20260308T080000
END:DAYLIGHT
BEGIN:STANDARD
TZOFFSETFROM:-0500
TZOFFSETTO:-0600
TZNAME:CST
DTSTART:20261101T070000
END:STANDARD
BEGIN:DAYLIGHT
TZOFFSETFROM:-0600
TZOFFSETTO:-0500
TZNAME:CDT
DTSTART:20270314T080000
END:DAYLIGHT
BEGIN:STANDARD
TZOFFSETFROM:-0500
TZOFFSETTO:-0600
TZNAME:CST
DTSTART:20271107T070000
END:STANDARD
END:VTIMEZONE
BEGIN:VEVENT
DTSTART;VALUE=DATE:20250829
DTEND;VALUE=DATE:20250831
DTSTAMP:20260425T164847
CREATED:20250711T010139Z
LAST-MODIFIED:20250711T010344Z
UID:23827-1756425600-1756598399@jdpofs.org
SUMMARY:Regional Chapter of Elections
DESCRIPTION:2025 Regional Elections\nNominations are due by July 27\, 2025 (Date to be Returned)\nYour may email completed forms to nominations@jdpofs.org\n(Forms are available below)\n\n\n\n	\n		\n		\n		\n			\n				\n				\n					2025 Regional Election Forms				\n				\n					\n					\n												\n						\n\n							\n															\n									\n								\n							\n							\n							2025 Regional Elections Nomination form MS Word\n						\n												\n					\n					\n					\n												\n						\n\n							\n															\n									\n								\n							\n							\n							2025 Regional Elections Nomination form PDF\n						\n												\n					\n					\n					\n												\n						\n\n							\n															\n									\n								\n							\n							\n							2025 Regional Elections Acceptance of Nomination Form PDF\n						\n												\n					\n					\n					\n												\n						\n\n							\n															\n									\n								\n							\n							\n							2025 Regional Elections Acceptance of Nomination Form MS Word\n						\n												\n					\n					\n					\n												\n						\n\n							\n															\n									\n								\n							\n							\n							Servant Leadership Handbook
URL:https://jdpofs.org/event/regional-chapter-of-elections/
LOCATION:Spiritual Life Center\, 7100 E 45th St N\, Bel Aire\, Wichita\, KS\, 67226\, United States
CATEGORIES:All Events,Elections,Regional
END:VEVENT
BEGIN:VEVENT
DTSTART;VALUE=DATE:20260717
DTEND;VALUE=DATE:20260720
DTSTAMP:20260425T164847
CREATED:20260228T233533Z
LAST-MODIFIED:20260424T144125Z
UID:24781-1784246400-1784505599@jdpofs.org
SUMMARY:JDP Regional Chapter &  Summer Gathering
DESCRIPTION:Regional Chapter — Ministers & Spiritual Assistants\nGathering — All Invited\n \nRegistration Form\nPDF Version\nMS Word Version
URL:https://jdpofs.org/event/jdp-regional-chapter-summer-gathering/
LOCATION:Spiritual Life Center\, 7100 E 45th St N\, Bel Aire\, Wichita\, KS\, 67226\, United States
CATEGORIES:All Events,Regional
END:VEVENT
BEGIN:VEVENT
DTSTART;VALUE=DATE:20260729
DTEND;VALUE=DATE:20260803
DTSTAMP:20260425T164847
CREATED:20260228T234400Z
LAST-MODIFIED:20260228T234831Z
UID:24784-1785283200-1785715199@jdpofs.org
SUMMARY:21st Quinquennial Congress
DESCRIPTION:
URL:https://jdpofs.org/event/21st-quinquennial-congress/
LOCATION:Lexington Griffin Gate Marriott Golf Resort & Spa\, 800 Newtown Pike\, Lexington\, KY\, 40511\, United States
CATEGORIES:All Events,National
END:VEVENT
BEGIN:VEVENT
DTSTART;VALUE=DATE:20261010
DTEND;VALUE=DATE:20261019
DTSTAMP:20260425T164847
CREATED:20250711T010816Z
LAST-MODIFIED:20250712T132037Z
UID:23831-1791590400-1792367999@jdpofs.org
SUMMARY:National OFS Chapter
DESCRIPTION:NEC\, Regional Ministers
URL:https://jdpofs.org/event/national-ofs-chapter/
LOCATION:Spiritual Life Center\, 7100 E 45th St N\, Bel Aire\, Wichita\, KS\, 67226\, United States
CATEGORIES:All Events,National,Regional
END:VEVENT
END:VCALENDAR