BEGIN:VCALENDAR
VERSION:2.0
PRODID:-//Juan de Padilla - ECPv6.15.17.1//NONSGML v1.0//EN
CALSCALE:GREGORIAN
METHOD:PUBLISH
X-WR-CALNAME:Juan de Padilla
X-ORIGINAL-URL:https://jdpofs.org
X-WR-CALDESC:Events for Juan de Padilla
REFRESH-INTERVAL;VALUE=DURATION:PT1H
X-Robots-Tag:noindex
X-PUBLISHED-TTL:PT1H
BEGIN:VTIMEZONE
TZID:America/Chicago
BEGIN:DAYLIGHT
TZOFFSETFROM:-0600
TZOFFSETTO:-0500
TZNAME:CDT
DTSTART:20230312T080000
END:DAYLIGHT
BEGIN:STANDARD
TZOFFSETFROM:-0500
TZOFFSETTO:-0600
TZNAME:CST
DTSTART:20231105T070000
END:STANDARD
BEGIN:DAYLIGHT
TZOFFSETFROM:-0600
TZOFFSETTO:-0500
TZNAME:CDT
DTSTART:20240310T080000
END:DAYLIGHT
BEGIN:STANDARD
TZOFFSETFROM:-0500
TZOFFSETTO:-0600
TZNAME:CST
DTSTART:20241103T070000
END:STANDARD
BEGIN:DAYLIGHT
TZOFFSETFROM:-0600
TZOFFSETTO:-0500
TZNAME:CDT
DTSTART:20250309T080000
END:DAYLIGHT
BEGIN:STANDARD
TZOFFSETFROM:-0500
TZOFFSETTO:-0600
TZNAME:CST
DTSTART:20251102T070000
END:STANDARD
BEGIN:DAYLIGHT
TZOFFSETFROM:-0600
TZOFFSETTO:-0500
TZNAME:CDT
DTSTART:20260308T080000
END:DAYLIGHT
BEGIN:STANDARD
TZOFFSETFROM:-0500
TZOFFSETTO:-0600
TZNAME:CST
DTSTART:20261101T070000
END:STANDARD
END:VTIMEZONE
BEGIN:VEVENT
DTSTART;VALUE=DATE:20240718
DTEND;VALUE=DATE:20250721
DTSTAMP:20260424T125226
CREATED:20230228T005643Z
LAST-MODIFIED:20250623T001525Z
UID:21500-1721260800-1753055999@jdpofs.org
SUMMARY:JDP Regional Summer Gathering
DESCRIPTION: Schedule & Registration Form\n\n\n\n\n   \n      \n         \n         2025 Summer Gathering Schedule\n      \n   \n   \n      \n         \n         2025 Regional Summer Gathering Reg Form\n      \n   \n\n\n\nClick Here to download Word version of Registration Form(Click image below to view flyer in PDF format)
URL:https://jdpofs.org/event/jdp-regional-summer-gathering/
LOCATION:Spiritual Life Center\, 7100 E 45th St N\, Bel Aire\, Wichita\, KS\, 67226\, United States
CATEGORIES:All Events,Regional
END:VEVENT
END:VCALENDAR