BEGIN:VCALENDAR
VERSION:2.0
PRODID:-//Juan de Padilla - ECPv6.15.17.1//NONSGML v1.0//EN
CALSCALE:GREGORIAN
METHOD:PUBLISH
X-WR-CALNAME:Juan de Padilla
X-ORIGINAL-URL:https://jdpofs.org
X-WR-CALDESC:Events for Juan de Padilla
REFRESH-INTERVAL;VALUE=DURATION:PT1H
X-Robots-Tag:noindex
X-PUBLISHED-TTL:PT1H
BEGIN:VTIMEZONE
TZID:America/Chicago
BEGIN:DAYLIGHT
TZOFFSETFROM:-0600
TZOFFSETTO:-0500
TZNAME:CDT
DTSTART:20220313T080000
END:DAYLIGHT
BEGIN:STANDARD
TZOFFSETFROM:-0500
TZOFFSETTO:-0600
TZNAME:CST
DTSTART:20221106T070000
END:STANDARD
BEGIN:DAYLIGHT
TZOFFSETFROM:-0600
TZOFFSETTO:-0500
TZNAME:CDT
DTSTART:20230312T080000
END:DAYLIGHT
BEGIN:STANDARD
TZOFFSETFROM:-0500
TZOFFSETTO:-0600
TZNAME:CST
DTSTART:20231105T070000
END:STANDARD
BEGIN:DAYLIGHT
TZOFFSETFROM:-0600
TZOFFSETTO:-0500
TZNAME:CDT
DTSTART:20240310T080000
END:DAYLIGHT
BEGIN:STANDARD
TZOFFSETFROM:-0500
TZOFFSETTO:-0600
TZNAME:CST
DTSTART:20241103T070000
END:STANDARD
END:VTIMEZONE
BEGIN:VEVENT
DTSTART;VALUE=DATE:20231003
DTEND;VALUE=DATE:20231004
DTSTAMP:20260425T181301
CREATED:20180213T003914Z
LAST-MODIFIED:20230228T010150Z
UID:8946-1696291200-1696377599@jdpofs.org
SUMMARY:The Transitus of Our Seraphic Father St. Francis
DESCRIPTION:
URL:https://jdpofs.org/event/transitus/
LOCATION:KY
CATEGORIES:All Events,Feast Days,Regional
END:VEVENT
BEGIN:VEVENT
DTSTART;TZID=America/Chicago:20231004T000000
DTEND;TZID=America/Chicago:20231004T000000
DTSTAMP:20260425T181301
CREATED:20180212T235346Z
LAST-MODIFIED:20230220T185042Z
UID:8943-1696377600-1696377600@jdpofs.org
SUMMARY:Feast of St. Francis of Assisi
DESCRIPTION:
URL:https://jdpofs.org/event/feast-of-st-francis-of-assisi/
LOCATION:KY
CATEGORIES:All Events,Feast Days,National,Regional
END:VEVENT
BEGIN:VEVENT
DTSTART;TZID=America/Chicago:20231006T000000
DTEND;TZID=America/Chicago:20231006T000000
DTSTAMP:20260425T181301
CREATED:20171006T143333Z
LAST-MODIFIED:20230220T185052Z
UID:2066-1696550400-1696550400@jdpofs.org
SUMMARY:ST MARY FRANCES OF THE FIVE WOUNDS
DESCRIPTION:
URL:https://jdpofs.org/event/st-mary-frances-of-the-five-wounds/
LOCATION:KY
CATEGORIES:All Events,Feast Days
END:VEVENT
BEGIN:VEVENT
DTSTART;TZID=America/Chicago:20231010T000000
DTEND;TZID=America/Chicago:20231010T000000
DTSTAMP:20260425T181301
CREATED:20171006T190544Z
LAST-MODIFIED:20230220T185103Z
UID:2106-1696896000-1696896000@jdpofs.org
SUMMARY:STS DANIEL & COMPANIONS
DESCRIPTION:
URL:https://jdpofs.org/event/sts-daniel-companions/
LOCATION:KY
CATEGORIES:All Events,Feast Days
END:VEVENT
BEGIN:VEVENT
DTSTART;TZID=America/Chicago:20231012T000000
DTEND;TZID=America/Chicago:20231012T000000
DTSTAMP:20260425T181301
CREATED:20171006T190631Z
LAST-MODIFIED:20230220T185115Z
UID:2108-1697068800-1697068800@jdpofs.org
SUMMARY:ST SERAPHIN OF MONTEGRANARO
DESCRIPTION:
URL:https://jdpofs.org/event/st-seraphin-of-montegranaro/
LOCATION:KY
CATEGORIES:All Events,Feast Days
END:VEVENT
BEGIN:VEVENT
DTSTART;VALUE=DATE:20231014
DTEND;VALUE=DATE:20231015
DTSTAMP:20260425T181301
CREATED:20210604T203849Z
LAST-MODIFIED:20230829T005245Z
UID:18343-1697241600-1697327999@jdpofs.org
SUMMARY:JDP Regional Chapter
DESCRIPTION:  \n 
URL:https://jdpofs.org/event/regional-chapter-national-visitation-and-elections/
LOCATION:Spiritual Life Center\, 7100 E 45th St N\, Bel Aire\, Wichita\, KS\, 67226\, United States
CATEGORIES:All Events,Regional
END:VEVENT
BEGIN:VEVENT
DTSTART;TZID=America/Chicago:20231018T000000
DTEND;TZID=America/Chicago:20231018T000000
DTSTAMP:20260425T181301
CREATED:20171006T190735Z
LAST-MODIFIED:20230220T185126Z
UID:2110-1697587200-1697587200@jdpofs.org
SUMMARY:BL JAMES OF STREPAR
DESCRIPTION:
URL:https://jdpofs.org/event/bl-james-of-strepar/
LOCATION:KY
CATEGORIES:All Events,Feast Days
END:VEVENT
BEGIN:VEVENT
DTSTART;TZID=America/Chicago:20231020T000000
DTEND;TZID=America/Chicago:20231020T000000
DTSTAMP:20260425T181301
CREATED:20171006T190849Z
LAST-MODIFIED:20230220T185136Z
UID:2112-1697760000-1697760000@jdpofs.org
SUMMARY:BL CONTARDO FERRINI
DESCRIPTION:
URL:https://jdpofs.org/event/bl-contardo-ferrini/
LOCATION:KY
CATEGORIES:All Events,Feast Days
END:VEVENT
BEGIN:VEVENT
DTSTART;TZID=America/Chicago:20231021T000000
DTEND;TZID=America/Chicago:20231021T000000
DTSTAMP:20260425T181301
CREATED:20171006T191206Z
LAST-MODIFIED:20230220T185149Z
UID:2114-1697846400-1697846400@jdpofs.org
SUMMARY:BL JOSEPHINE LEROUX
DESCRIPTION:
URL:https://jdpofs.org/event/bl-josephine-leroux/
LOCATION:KY
CATEGORIES:All Events,Feast Days
END:VEVENT
BEGIN:VEVENT
DTSTART;TZID=America/Chicago:20231022T000000
DTEND;TZID=America/Chicago:20231022T000000
DTSTAMP:20260425T181301
CREATED:20171006T191353Z
LAST-MODIFIED:20230220T185200Z
UID:2116-1697932800-1697932800@jdpofs.org
SUMMARY:ST PETER OF ALCANTARA
DESCRIPTION:
URL:https://jdpofs.org/event/st-peter-of-alcantara/
LOCATION:KY
CATEGORIES:All Events,Feast Days
END:VEVENT
BEGIN:VEVENT
DTSTART;TZID=America/Chicago:20231023T000000
DTEND;TZID=America/Chicago:20231023T000000
DTSTAMP:20260425T181301
CREATED:20171006T191508Z
LAST-MODIFIED:20230220T185654Z
UID:2118-1698019200-1698019200@jdpofs.org
SUMMARY:ST JOHN OF CAPISTRANO
DESCRIPTION:
URL:https://jdpofs.org/event/st-john-of-capistrano/
LOCATION:KY
CATEGORIES:All Events,Feast Days
END:VEVENT
BEGIN:VEVENT
DTSTART;TZID=America/Chicago:20231026T000000
DTEND;TZID=America/Chicago:20231026T000000
DTSTAMP:20260425T181301
CREATED:20171006T191602Z
LAST-MODIFIED:20230220T185703Z
UID:2120-1698278400-1698278400@jdpofs.org
SUMMARY:BL BONAVENTURE OF POTENZA
DESCRIPTION:
URL:https://jdpofs.org/event/bl-bonaventure-of-potenza/
LOCATION:KY
CATEGORIES:All Events,Feast Days
END:VEVENT
BEGIN:VEVENT
DTSTART;TZID=America/Chicago:20231030T000000
DTEND;TZID=America/Chicago:20231030T000000
DTSTAMP:20260425T181301
CREATED:20171006T191641Z
LAST-MODIFIED:20230220T185714Z
UID:2122-1698624000-1698624000@jdpofs.org
SUMMARY:ANNIVERSARY OF DEDICATION IN CONSECRATED FRANCISCAN CHURCHES
DESCRIPTION:
URL:https://jdpofs.org/event/anniversary-of-dedication-in-consecrated-franciscan-churches/
LOCATION:KY
CATEGORIES:All Events,Feast Days
END:VEVENT
END:VCALENDAR