BEGIN:VCALENDAR
VERSION:2.0
PRODID:-//Juan de Padilla - ECPv6.15.17.1//NONSGML v1.0//EN
CALSCALE:GREGORIAN
METHOD:PUBLISH
X-ORIGINAL-URL:https://jdpofs.org
X-WR-CALDESC:Events for Juan de Padilla
REFRESH-INTERVAL;VALUE=DURATION:PT1H
X-Robots-Tag:noindex
X-PUBLISHED-TTL:PT1H
BEGIN:VTIMEZONE
TZID:America/Chicago
BEGIN:DAYLIGHT
TZOFFSETFROM:-0600
TZOFFSETTO:-0500
TZNAME:CDT
DTSTART:20220313T080000
END:DAYLIGHT
BEGIN:STANDARD
TZOFFSETFROM:-0500
TZOFFSETTO:-0600
TZNAME:CST
DTSTART:20221106T070000
END:STANDARD
BEGIN:DAYLIGHT
TZOFFSETFROM:-0600
TZOFFSETTO:-0500
TZNAME:CDT
DTSTART:20230312T080000
END:DAYLIGHT
BEGIN:STANDARD
TZOFFSETFROM:-0500
TZOFFSETTO:-0600
TZNAME:CST
DTSTART:20231105T070000
END:STANDARD
BEGIN:DAYLIGHT
TZOFFSETFROM:-0600
TZOFFSETTO:-0500
TZNAME:CDT
DTSTART:20240310T080000
END:DAYLIGHT
BEGIN:STANDARD
TZOFFSETFROM:-0500
TZOFFSETTO:-0600
TZNAME:CST
DTSTART:20241103T070000
END:STANDARD
END:VTIMEZONE
BEGIN:VEVENT
DTSTART;TZID=America/Chicago:20230902T000000
DTEND;TZID=America/Chicago:20230902T000000
DTSTAMP:20260425T201140
CREATED:20171126T215642Z
LAST-MODIFIED:20230220T184858Z
UID:6294-1693612800-1693612800@jdpofs.org
SUMMARY:BLS JOHN FRANCIS BURTE\, SEVERIN GIRAULT & COMPANIONS
DESCRIPTION:
URL:https://jdpofs.org/event/bls-john-francis-burte-severin-girault-companions/
LOCATION:KY
CATEGORIES:All Events,Feast Days
END:VEVENT
BEGIN:VEVENT
DTSTART;TZID=America/Chicago:20230904T000000
DTEND;TZID=America/Chicago:20230904T000000
DTSTAMP:20260425T201140
CREATED:20171126T215807Z
LAST-MODIFIED:20230220T184908Z
UID:6296-1693785600-1693785600@jdpofs.org
SUMMARY:ST ROSE OF VITERBO
DESCRIPTION:
URL:https://jdpofs.org/event/st-rose-of-viterbo/
LOCATION:KY
CATEGORIES:All Events,Feast Days
END:VEVENT
BEGIN:VEVENT
DTSTART;TZID=America/Chicago:20230917T000000
DTEND;TZID=America/Chicago:20230917T000000
DTSTAMP:20260425T201140
CREATED:20171126T215943Z
LAST-MODIFIED:20230220T184933Z
UID:6298-1694908800-1694908800@jdpofs.org
SUMMARY:STIGMATA OF OUR HOLY FATHER FRANCIS
DESCRIPTION:
URL:https://jdpofs.org/event/stigmata-of-our-holy-father-francis/
LOCATION:KY
CATEGORIES:All Events,Feast Days,Regional
END:VEVENT
BEGIN:VEVENT
DTSTART;TZID=America/Chicago:20230918T000000
DTEND;TZID=America/Chicago:20230918T000000
DTSTAMP:20260425T201140
CREATED:20171126T220052Z
LAST-MODIFIED:20230220T184943Z
UID:6300-1694995200-1694995200@jdpofs.org
SUMMARY:ST JOSEPH OF CUPERTINO
DESCRIPTION:
URL:https://jdpofs.org/event/st-joseph-of-cupertino/
LOCATION:KY
CATEGORIES:All Events,Feast Days
END:VEVENT
BEGIN:VEVENT
DTSTART;TZID=America/Chicago:20230920T000000
DTEND;TZID=America/Chicago:20230920T000000
DTSTAMP:20260425T201140
CREATED:20171126T220401Z
LAST-MODIFIED:20230220T184952Z
UID:6302-1695168000-1695168000@jdpofs.org
SUMMARY:ST FRANCIS MARY OF CAMPOROSSO
DESCRIPTION:
URL:https://jdpofs.org/event/st-francis-mary-of-camporosso/
LOCATION:KY
CATEGORIES:All Events,Feast Days
END:VEVENT
BEGIN:VEVENT
DTSTART;TZID=America/Chicago:20230923T000000
DTEND;TZID=America/Chicago:20230923T000000
DTSTAMP:20260425T201140
CREATED:20171126T220855Z
LAST-MODIFIED:20230220T185005Z
UID:6304-1695427200-1695427200@jdpofs.org
SUMMARY:FINDING THE BODY OF ST CLARE
DESCRIPTION:
URL:https://jdpofs.org/event/finding-the-body-of-st-clare/
LOCATION:KY
CATEGORIES:All Events,Feast Days,Regional
END:VEVENT
BEGIN:VEVENT
DTSTART;TZID=America/Chicago:20230926T000000
DTEND;TZID=America/Chicago:20230926T000000
DTSTAMP:20260425T201140
CREATED:20171126T221007Z
LAST-MODIFIED:20230220T185020Z
UID:6306-1695686400-1695686400@jdpofs.org
SUMMARY:ST ELZEAR OF SABRAN & BL DELPHINE
DESCRIPTION:
URL:https://jdpofs.org/event/st-elzear-of-sabran-bl-delphine/
LOCATION:KY
CATEGORIES:All Events,Feast Days
END:VEVENT
END:VCALENDAR